BEGIN:VCALENDAR
VERSION:2.0
PRODID:-//Tukios.com/
BEGIN:VEVENT
UID:11ac5e0b-b1ec-4dc2-954d-9d9d68dd305a@www.loveandintegrityfh.com
DTSTAMP:20260423T061053Z
DTSTART:20260424T150000Z
DTEND:20260424T230000Z
SUMMARY:Visitation
DESCRIPTION:
URL:https://www.loveandintegrityfh.com/obituaries/herbert-bailey
LOCATION:Love & Integrity Funeral Service 4900 King Street  Greenville TX 
	75401
GEO:33.1216102;-96.111207
END:VEVENT
END:VCALENDAR